Workbook

Sheet Saisie des heures
A1: Feuille de temps par projet
A2: Ajoutez d'abord vos projets dans l'onglet Projets. Saisissez ensuite ici chaque période de travail : choisissez le projet, indiquez les heures de début et de fin, et précisez si elle est facturable.
A4: Nom | E4: Total des heures | G4: Heures facturables | I4: Montant
E5: =SUM(H9:H208) | G5: =SUMIFS(H9:H208,I9:I208,"Oui") | I5: =SUM(K9:K208)
A8: Date | B8: Projet | C8: Client | D8: Tâche / description | E8: Début | F8: Fin | G8: Pause (min) | H8: Heures | I8: Facturable | J8: Taux | K8: Montant
C9: =IF(B9="","",IFERROR(INDEX('Projets'!$B$8:$B$37,MATCH(B9,'Projets'!$A$8:$A$37,0))&"","")) | H9: =IF(OR(E9="",F9=""),"",ROUND(MAX(0,MOD(F9-E9,1)*24-N(G9)/60),2)) | J9: =IF(B9="","",IFERROR(INDEX('Projets'!$C$8:$C$37,MATCH(B9,'Projets'!$A$8:$A$37,0))+0,"")) | K9: =IF(OR(H9="",J9="",J9=0,I9<>"Oui"),"",ROUND(H9*J9,2))
C10: =IF(B10="","",IFERROR(INDEX('Projets'!$B$8:$B$37,MATCH(B10,'Projets'!$A$8:$A$37,0))&"","")) | H10: =IF(OR(E10="",F10=""),"",ROUND(MAX(0,MOD(F10-E10,1)*24-N(G10)/60),2)) | J10: =IF(B10="","",IFERROR(INDEX('Projets'!$C$8:$C$37,MATCH(B10,'Projets'!$A$8:$A$37,0))+0,"")) | K10: =IF(OR(H10="",J10="",J10=0,I10<>"Oui"),"",ROUND(H10*J10,2))
C11: =IF(B11="","",IFERROR(INDEX('Projets'!$B$8:$B$37,MATCH(B11,'Projets'!$A$8:$A$37,0))&"","")) | H11: =IF(OR(E11="",F11=""),"",ROUND(MAX(0,MOD(F11-E11,1)*24-N(G11)/60),2)) | J11: =IF(B11="","",IFERROR(INDEX('Projets'!$C$8:$C$37,MATCH(B11,'Projets'!$A$8:$A$37,0))+0,"")) | K11: =IF(OR(H11="",J11="",J11=0,I11<>"Oui"),"",ROUND(H11*J11,2))
C12: =IF(B12="","",IFERROR(INDEX('Projets'!$B$8:$B$37,MATCH(B12,'Projets'!$A$8:$A$37,0))&"","")) | H12: =IF(OR(E12="",F12=""),"",ROUND(MAX(0,MOD(F12-E12,1)*24-N(G12)/60),2)) | J12: =IF(B12="","",IFERROR(INDEX('Projets'!$C$8:$C$37,MATCH(B12,'Projets'!$A$8:$A$37,0))+0,"")) | K12: =IF(OR(H12="",J12="",J12=0,I12<>"Oui"),"",ROUND(H12*J12,2))
C13: =IF(B13="","",IFERROR(INDEX('Projets'!$B$8:$B$37,MATCH(B13,'Projets'!$A$8:$A$37,0))&"","")) | H13: =IF(OR(E13="",F13=""),"",ROUND(MAX(0,MOD(F13-E13,1)*24-N(G13)/60),2)) | J13: =IF(B13="","",IFERROR(INDEX('Projets'!$C$8:$C$37,MATCH(B13,'Projets'!$A$8:$A$37,0))+0,"")) | K13: =IF(OR(H13="",J13="",J13=0,I13<>"Oui"),"",ROUND(H13*J13,2))
C14: =IF(B14="","",IFERROR(INDEX('Projets'!$B$8:$B$37,MATCH(B14,'Projets'!$A$8:$A$37,0))&"","")) | H14: =IF(OR(E14="",F14=""),"",ROUND(MAX(0,MOD(F14-E14,1)*24-N(G14)/60),2)) | J14: =IF(B14="","",IFERROR(INDEX('Projets'!$C$8:$C$37,MATCH(B14,'Projets'!$A$8:$A$37,0))+0,"")) | K14: =IF(OR(H14="",J14="",J14=0,I14<>"Oui"),"",ROUND(H14*J14,2))
C15: =IF(B15="","",IFERROR(INDEX('Projets'!$B$8:$B$37,MATCH(B15,'Projets'!$A$8:$A$37,0))&"","")) | H15: =IF(OR(E15="",F15=""),"",ROUND(MAX(0,MOD(F15-E15,1)*24-N(G15)/60),2)) | J15: =IF(B15="","",IFERROR(INDEX('Projets'!$C$8:$C$37,MATCH(B15,'Projets'!$A$8:$A$37,0))+0,"")) | K15: =IF(OR(H15="",J15="",J15=0,I15<>"Oui"),"",ROUND(H15*J15,2))
C16: =IF(B16="","",IFERROR(INDEX('Projets'!$B$8:$B$37,MATCH(B16,'Projets'!$A$8:$A$37,0))&"","")) | H16: =IF(OR(E16="",F16=""),"",ROUND(MAX(0,MOD(F16-E16,1)*24-N(G16)/60),2)) | J16: =IF(B16="","",IFERROR(INDEX('Projets'!$C$8:$C$37,MATCH(B16,'Projets'!$A$8:$A$37,0))+0,"")) | K16: =IF(OR(H16="",J16="",J16=0,I16<>"Oui"),"",ROUND(H16*J16,2))
C17: =IF(B17="","",IFERROR(INDEX('Projets'!$B$8:$B$37,MATCH(B17,'Projets'!$A$8:$A$37,0))&"","")) | H17: =IF(OR(E17="",F17=""),"",ROUND(MAX(0,MOD(F17-E17,1)*24-N(G17)/60),2)) | J17: =IF(B17="","",IFERROR(INDEX('Projets'!$C$8:$C$37,MATCH(B17,'Projets'!$A$8:$A$37,0))+0,"")) | K17: =IF(OR(H17="",J17="",J17=0,I17<>"Oui"),"",ROUND(H17*J17,2))
C18: =IF(B18="","",IFERROR(INDEX('Projets'!$B$8:$B$37,MATCH(B18,'Projets'!$A$8:$A$37,0))&"","")) | H18: =IF(OR(E18="",F18=""),"",ROUND(MAX(0,MOD(F18-E18,1)*24-N(G18)/60),2)) | J18: =IF(B18="","",IFERROR(INDEX('Projets'!$C$8:$C$37,MATCH(B18,'Projets'!$A$8:$A$37,0))+0,"")) | K18: =IF(OR(H18="",J18="",J18=0,I18<>"Oui"),"",ROUND(H18*J18,2))
C19: =IF(B19="","",IFERROR(INDEX('Projets'!$B$8:$B$37,MATCH(B19,'Projets'!$A$8:$A$37,0))&"","")) | H19: =IF(OR(E19="",F19=""),"",ROUND(MAX(0,MOD(F19-E19,1)*24-N(G19)/60),2)) | J19: =IF(B19="","",IFERROR(INDEX('Projets'!$C$8:$C$37,MATCH(B19,'Projets'!$A$8:$A$37,0))+0,"")) | K19: =IF(OR(H19="",J19="",J19=0,I19<>"Oui"),"",ROUND(H19*J19,2))
C20: =IF(B20="","",IFERROR(INDEX('Projets'!$B$8:$B$37,MATCH(B20,'Projets'!$A$8:$A$37,0))&"","")) | H20: =IF(OR(E20="",F20=""),"",ROUND(MAX(0,MOD(F20-E20,1)*24-N(G20)/60),2)) | J20: =IF(B20="","",IFERROR(INDEX('Projets'!$C$8:$C$37,MATCH(B20,'Projets'!$A$8:$A$37,0))+0,"")) | K20: =IF(OR(H20="",J20="",J20=0,I20<>"Oui"),"",ROUND(H20*J20,2))
... C208: =IF(B208="","",IFERROR(INDEX('Projets'!$B$8:$B$37,MATCH(B208,'Projets'!$A$8:$A$37,0))&"","")) | H208: =IF(OR(E208="",F208=""),"",ROUND(MAX(0,MOD(F208-E208,1)*24-N(G208)/60),2)) | J208: =IF(B208="","",IFERROR(INDEX('Projets'!$C$8:$C$37,MATCH(B208,'Projets'!$A$8:$A$37,0))+0,"")) | K208: =IF(OR(H208="",J208="",J208=0,I208<>"Oui"),"",ROUND(H208*J208,2))
A210: Modèle gratuit proposé par EasyHours · easyhours.fr – pointez depuis un téléphone ou une tablette partagée plutôt que sur papier.

Sheet Projets
A1: Projets
A2: Listez chaque projet avec son client et son taux horaire. Les heures et les montants facturables sont totalisés à partir de la saisie des heures. Indiquez une période pour totaliser un seul mois ou une période de facturation.
A4: Ne compter que les heures entre | D4: – | F4: Laissez les deux dates vides pour tout totaliser.
A7: Projet | B7: Client | C7: Taux horaire | D7: Budget (h) | E7: Heures | F7: Heures facturables | G7: Montant | H7: Budget restant (h)
E8: =IF($A8="","",SUMIFS('Saisie des heures'!$H$9:$H$208,'Saisie des heures'!$B$9:$B$208,$A8,'Saisie des heures'!$A$9:$A$208,">="&IF($C$4="",0,$C$4),'Saisie des heures'!$A$9:$A$208,"<="&IF($E$4="",2958465,$E$4))) | F8: =IF($A8="","",SUMIFS('Saisie des heures'!$H$9:$H$208,'Saisie des heures'!$B$9:$B$208,$A8,'Saisie des heures'!$I$9:$I$208,"Oui",'Saisie des heures'!$A$9:$A$208,">="&IF($C$4="",0,$C$4),'Saisie des heures'!$A$9:$A$208,"<="&IF($E$4="",2958465,$E$4))) | G8: =IF($A8="","",SUMIFS('Saisie des heures'!$K$9:$K$208,'Saisie des heures'!$B$9:$B$208,$A8,'Saisie des heures'!$A$9:$A$208,">="&IF($C$4="",0,$C$4),'Saisie des heures'!$A$9:$A$208,"<="&IF($E$4="",2958465,$E$4))) | H8: =IF(OR($A8="",N(D8)=0),"",D8-E8)
E9: =IF($A9="","",SUMIFS('Saisie des heures'!$H$9:$H$208,'Saisie des heures'!$B$9:$B$208,$A9,'Saisie des heures'!$A$9:$A$208,">="&IF($C$4="",0,$C$4),'Saisie des heures'!$A$9:$A$208,"<="&IF($E$4="",2958465,$E$4))) | F9: =IF($A9="","",SUMIFS('Saisie des heures'!$H$9:$H$208,'Saisie des heures'!$B$9:$B$208,$A9,'Saisie des heures'!$I$9:$I$208,"Oui",'Saisie des heures'!$A$9:$A$208,">="&IF($C$4="",0,$C$4),'Saisie des heures'!$A$9:$A$208,"<="&IF($E$4="",2958465,$E$4))) | G9: =IF($A9="","",SUMIFS('Saisie des heures'!$K$9:$K$208,'Saisie des heures'!$B$9:$B$208,$A9,'Saisie des heures'!$A$9:$A$208,">="&IF($C$4="",0,$C$4),'Saisie des heures'!$A$9:$A$208,"<="&IF($E$4="",2958465,$E$4))) | H9: =IF(OR($A9="",N(D9)=0),"",D9-E9)
E10: =IF($A10="","",SUMIFS('Saisie des heures'!$H$9:$H$208,'Saisie des heures'!$B$9:$B$208,$A10,'Saisie des heures'!$A$9:$A$208,">="&IF($C$4="",0,$C$4),'Saisie des heures'!$A$9:$A$208,"<="&IF($E$4="",2958465,$E$4))) | F10: =IF($A10="","",SUMIFS('Saisie des heures'!$H$9:$H$208,'Saisie des heures'!$B$9:$B$208,$A10,'Saisie des heures'!$I$9:$I$208,"Oui",'Saisie des heures'!$A$9:$A$208,">="&IF($C$4="",0,$C$4),'Saisie des heures'!$A$9:$A$208,"<="&IF($E$4="",2958465,$E$4))) | G10: =IF($A10="","",SUMIFS('Saisie des heures'!$K$9:$K$208,'Saisie des heures'!$B$9:$B$208,$A10,'Saisie des heures'!$A$9:$A$208,">="&IF($C$4="",0,$C$4),'Saisie des heures'!$A$9:$A$208,"<="&IF($E$4="",2958465,$E$4))) | H10: =IF(OR($A10="",N(D10)=0),"",D10-E10)
E11: =IF($A11="","",SUMIFS('Saisie des heures'!$H$9:$H$208,'Saisie des heures'!$B$9:$B$208,$A11,'Saisie des heures'!$A$9:$A$208,">="&IF($C$4="",0,$C$4),'Saisie des heures'!$A$9:$A$208,"<="&IF($E$4="",2958465,$E$4))) | F11: =IF($A11="","",SUMIFS('Saisie des heures'!$H$9:$H$208,'Saisie des heures'!$B$9:$B$208,$A11,'Saisie des heures'!$I$9:$I$208,"Oui",'Saisie des heures'!$A$9:$A$208,">="&IF($C$4="",0,$C$4),'Saisie des heures'!$A$9:$A$208,"<="&IF($E$4="",2958465,$E$4))) | G11: =IF($A11="","",SUMIFS('Saisie des heures'!$K$9:$K$208,'Saisie des heures'!$B$9:$B$208,$A11,'Saisie des heures'!$A$9:$A$208,">="&IF($C$4="",0,$C$4),'Saisie des heures'!$A$9:$A$208,"<="&IF($E$4="",2958465,$E$4))) | H11: =IF(OR($A11="",N(D11)=0),"",D11-E11)
E12: =IF($A12="","",SUMIFS('Saisie des heures'!$H$9:$H$208,'Saisie des heures'!$B$9:$B$208,$A12,'Saisie des heures'!$A$9:$A$208,">="&IF($C$4="",0,$C$4),'Saisie des heures'!$A$9:$A$208,"<="&IF($E$4="",2958465,$E$4))) | F12: =IF($A12="","",SUMIFS('Saisie des heures'!$H$9:$H$208,'Saisie des heures'!$B$9:$B$208,$A12,'Saisie des heures'!$I$9:$I$208,"Oui",'Saisie des heures'!$A$9:$A$208,">="&IF($C$4="",0,$C$4),'Saisie des heures'!$A$9:$A$208,"<="&IF($E$4="",2958465,$E$4))) | G12: =IF($A12="","",SUMIFS('Saisie des heures'!$K$9:$K$208,'Saisie des heures'!$B$9:$B$208,$A12,'Saisie des heures'!$A$9:$A$208,">="&IF($C$4="",0,$C$4),'Saisie des heures'!$A$9:$A$208,"<="&IF($E$4="",2958465,$E$4))) | H12: =IF(OR($A12="",N(D12)=0),"",D12-E12)
E13: =IF($A13="","",SUMIFS('Saisie des heures'!$H$9:$H$208,'Saisie des heures'!$B$9:$B$208,$A13,'Saisie des heures'!$A$9:$A$208,">="&IF($C$4="",0,$C$4),'Saisie des heures'!$A$9:$A$208,"<="&IF($E$4="",2958465,$E$4))) | F13: =IF($A13="","",SUMIFS('Saisie des heures'!$H$9:$H$208,'Saisie des heures'!$B$9:$B$208,$A13,'Saisie des heures'!$I$9:$I$208,"Oui",'Saisie des heures'!$A$9:$A$208,">="&IF($C$4="",0,$C$4),'Saisie des heures'!$A$9:$A$208,"<="&IF($E$4="",2958465,$E$4))) | G13: =IF($A13="","",SUMIFS('Saisie des heures'!$K$9:$K$208,'Saisie des heures'!$B$9:$B$208,$A13,'Saisie des heures'!$A$9:$A$208,">="&IF($C$4="",0,$C$4),'Saisie des heures'!$A$9:$A$208,"<="&IF($E$4="",2958465,$E$4))) | H13: =IF(OR($A13="",N(D13)=0),"",D13-E13)
E14: =IF($A14="","",SUMIFS('Saisie des heures'!$H$9:$H$208,'Saisie des heures'!$B$9:$B$208,$A14,'Saisie des heures'!$A$9:$A$208,">="&IF($C$4="",0,$C$4),'Saisie des heures'!$A$9:$A$208,"<="&IF($E$4="",2958465,$E$4))) | F14: =IF($A14="","",SUMIFS('Saisie des heures'!$H$9:$H$208,'Saisie des heures'!$B$9:$B$208,$A14,'Saisie des heures'!$I$9:$I$208,"Oui",'Saisie des heures'!$A$9:$A$208,">="&IF($C$4="",0,$C$4),'Saisie des heures'!$A$9:$A$208,"<="&IF($E$4="",2958465,$E$4))) | G14: =IF($A14="","",SUMIFS('Saisie des heures'!$K$9:$K$208,'Saisie des heures'!$B$9:$B$208,$A14,'Saisie des heures'!$A$9:$A$208,">="&IF($C$4="",0,$C$4),'Saisie des heures'!$A$9:$A$208,"<="&IF($E$4="",2958465,$E$4))) | H14: =IF(OR($A14="",N(D14)=0),"",D14-E14)
E15: =IF($A15="","",SUMIFS('Saisie des heures'!$H$9:$H$208,'Saisie des heures'!$B$9:$B$208,$A15,'Saisie des heures'!$A$9:$A$208,">="&IF($C$4="",0,$C$4),'Saisie des heures'!$A$9:$A$208,"<="&IF($E$4="",2958465,$E$4))) | F15: =IF($A15="","",SUMIFS('Saisie des heures'!$H$9:$H$208,'Saisie des heures'!$B$9:$B$208,$A15,'Saisie des heures'!$I$9:$I$208,"Oui",'Saisie des heures'!$A$9:$A$208,">="&IF($C$4="",0,$C$4),'Saisie des heures'!$A$9:$A$208,"<="&IF($E$4="",2958465,$E$4))) | G15: =IF($A15="","",SUMIFS('Saisie des heures'!$K$9:$K$208,'Saisie des heures'!$B$9:$B$208,$A15,'Saisie des heures'!$A$9:$A$208,">="&IF($C$4="",0,$C$4),'Saisie des heures'!$A$9:$A$208,"<="&IF($E$4="",2958465,$E$4))) | H15: =IF(OR($A15="",N(D15)=0),"",D15-E15)
E16: =IF($A16="","",SUMIFS('Saisie des heures'!$H$9:$H$208,'Saisie des heures'!$B$9:$B$208,$A16,'Saisie des heures'!$A$9:$A$208,">="&IF($C$4="",0,$C$4),'Saisie des heures'!$A$9:$A$208,"<="&IF($E$4="",2958465,$E$4))) | F16: =IF($A16="","",SUMIFS('Saisie des heures'!$H$9:$H$208,'Saisie des heures'!$B$9:$B$208,$A16,'Saisie des heures'!$I$9:$I$208,"Oui",'Saisie des heures'!$A$9:$A$208,">="&IF($C$4="",0,$C$4),'Saisie des heures'!$A$9:$A$208,"<="&IF($E$4="",2958465,$E$4))) | G16: =IF($A16="","",SUMIFS('Saisie des heures'!$K$9:$K$208,'Saisie des heures'!$B$9:$B$208,$A16,'Saisie des heures'!$A$9:$A$208,">="&IF($C$4="",0,$C$4),'Saisie des heures'!$A$9:$A$208,"<="&IF($E$4="",2958465,$E$4))) | H16: =IF(OR($A16="",N(D16)=0),"",D16-E16)
E17: =IF($A17="","",SUMIFS('Saisie des heures'!$H$9:$H$208,'Saisie des heures'!$B$9:$B$208,$A17,'Saisie des heures'!$A$9:$A$208,">="&IF($C$4="",0,$C$4),'Saisie des heures'!$A$9:$A$208,"<="&IF($E$4="",2958465,$E$4))) | F17: =IF($A17="","",SUMIFS('Saisie des heures'!$H$9:$H$208,'Saisie des heures'!$B$9:$B$208,$A17,'Saisie des heures'!$I$9:$I$208,"Oui",'Saisie des heures'!$A$9:$A$208,">="&IF($C$4="",0,$C$4),'Saisie des heures'!$A$9:$A$208,"<="&IF($E$4="",2958465,$E$4))) | G17: =IF($A17="","",SUMIFS('Saisie des heures'!$K$9:$K$208,'Saisie des heures'!$B$9:$B$208,$A17,'Saisie des heures'!$A$9:$A$208,">="&IF($C$4="",0,$C$4),'Saisie des heures'!$A$9:$A$208,"<="&IF($E$4="",2958465,$E$4))) | H17: =IF(OR($A17="",N(D17)=0),"",D17-E17)
E18: =IF($A18="","",SUMIFS('Saisie des heures'!$H$9:$H$208,'Saisie des heures'!$B$9:$B$208,$A18,'Saisie des heures'!$A$9:$A$208,">="&IF($C$4="",0,$C$4),'Saisie des heures'!$A$9:$A$208,"<="&IF($E$4="",2958465,$E$4))) | F18: =IF($A18="","",SUMIFS('Saisie des heures'!$H$9:$H$208,'Saisie des heures'!$B$9:$B$208,$A18,'Saisie des heures'!$I$9:$I$208,"Oui",'Saisie des heures'!$A$9:$A$208,">="&IF($C$4="",0,$C$4),'Saisie des heures'!$A$9:$A$208,"<="&IF($E$4="",2958465,$E$4))) | G18: =IF($A18="","",SUMIFS('Saisie des heures'!$K$9:$K$208,'Saisie des heures'!$B$9:$B$208,$A18,'Saisie des heures'!$A$9:$A$208,">="&IF($C$4="",0,$C$4),'Saisie des heures'!$A$9:$A$208,"<="&IF($E$4="",2958465,$E$4))) | H18: =IF(OR($A18="",N(D18)=0),"",D18-E18)
E19: =IF($A19="","",SUMIFS('Saisie des heures'!$H$9:$H$208,'Saisie des heures'!$B$9:$B$208,$A19,'Saisie des heures'!$A$9:$A$208,">="&IF($C$4="",0,$C$4),'Saisie des heures'!$A$9:$A$208,"<="&IF($E$4="",2958465,$E$4))) | F19: =IF($A19="","",SUMIFS('Saisie des heures'!$H$9:$H$208,'Saisie des heures'!$B$9:$B$208,$A19,'Saisie des heures'!$I$9:$I$208,"Oui",'Saisie des heures'!$A$9:$A$208,">="&IF($C$4="",0,$C$4),'Saisie des heures'!$A$9:$A$208,"<="&IF($E$4="",2958465,$E$4))) | G19: =IF($A19="","",SUMIFS('Saisie des heures'!$K$9:$K$208,'Saisie des heures'!$B$9:$B$208,$A19,'Saisie des heures'!$A$9:$A$208,">="&IF($C$4="",0,$C$4),'Saisie des heures'!$A$9:$A$208,"<="&IF($E$4="",2958465,$E$4))) | H19: =IF(OR($A19="",N(D19)=0),"",D19-E19)
... E37: =IF($A37="","",SUMIFS('Saisie des heures'!$H$9:$H$208,'Saisie des heures'!$B$9:$B$208,$A37,'Saisie des heures'!$A$9:$A$208,">="&IF($C$4="",0,$C$4),'Saisie des heures'!$A$9:$A$208,"<="&IF($E$4="",2958465,$E$4))) | F37: =IF($A37="","",SUMIFS('Saisie des heures'!$H$9:$H$208,'Saisie des heures'!$B$9:$B$208,$A37,'Saisie des heures'!$I$9:$I$208,"Oui",'Saisie des heures'!$A$9:$A$208,">="&IF($C$4="",0,$C$4),'Saisie des heures'!$A$9:$A$208,"<="&IF($E$4="",2958465,$E$4))) | G37: =IF($A37="","",SUMIFS('Saisie des heures'!$K$9:$K$208,'Saisie des heures'!$B$9:$B$208,$A37,'Saisie des heures'!$A$9:$A$208,">="&IF($C$4="",0,$C$4),'Saisie des heures'!$A$9:$A$208,"<="&IF($E$4="",2958465,$E$4))) | H37: =IF(OR($A37="",N(D37)=0),"",D37-E37)
A38: Total | E38: =SUM(E8:E37) | F38: =SUM(F8:F37) | G38: =SUM(G8:G37)
A40: Modèle gratuit proposé par EasyHours · easyhours.fr – pointez depuis un téléphone ou une tablette partagée plutôt que sur papier.
